BEGIN:VCALENDAR
VERSION:2.0
PRODID:-//bonhoeffer.ekihd.de//NONSGML kigkonsult.se iCalcreator 2.41.92//
CALSCALE:GREGORIAN
METHOD:PUBLISH
UID:34363339-3838-4365-b034-663164653036
X-WR-TIMEZONE:Europe/Berlin
X-LIC-LOCATION:Europe/Berlin
BEGIN:VTIMEZONE
TZID:Europe/Berlin
BEGIN:DAYLIGHT
TZOFFSETFROM:+0100
TZOFFSETTO:+0200
TZNAME:CEST
DTSTART:19700329T020000
RRULE:FREQ=YEARLY;BYDAY=-1SU;BYMONTH=3
END:DAYLIGHT
BEGIN:STANDARD
TZOFFSETFROM:+0200
TZOFFSETTO:+0100
TZNAME:CET
DTSTART:19701025T030000
RRULE:FREQ=YEARLY;BYDAY=-1SU;BYMONTH=10
END:STANDARD
END:VTIMEZONE
BEGIN:VEVENT
UID:66333563-6139-4933-a465-643632633663
DTSTAMP:20260421T202226Z
DESCRIPTION:Gemeinsam lesen\, hören\, austauschen\n \n NEU: Shared reading 
 heißt: Lesen - aber nicht allein. Über das Gelesene nachdenken - gemeinsam
 .\n \n Veranstaltungsort:\n Evang. Gemeindezentrum Arche HD-Kirchheim\n Bo
 nhoeffer-Raum\n Glatzer Str. 31\n 69124 Heidelberg\n \n Veranstalter:\n Ge
 meinde: Bonhoeffer-Gemeinde Kirchheim - Pfarramt: Bonhoeffer-Gemeinde Kirc
 hheim\n Oppelner Str. 2\n 69124 Heidelberg\n Telefon: 06221712248
DTSTART;TZID=Europe/Berlin:20260423T190000
DTEND;TZID=Europe/Berlin:20260423T203000
LOCATION:Evang. Gemeindezentrum Arche HD-Kirchheim\n - Bonhoeffer-Raum\n - 
 Glatzer Str. 31\n - 69124 Heidelberg
SUMMARY:Shared Reading
X-ALT-DESC;FMTTYPE=text/html:Gemeinsam lesen\, hören\, austauschen<br /><br
  />NEU: Shared reading heißt: Lesen - aber nicht allein. Über das Gelesene
  nachdenken - gemeinsam.<br /><br />Veranstaltungsort: <br />Evang. Gemein
 dezentrum Arche HD-Kirchheim<br />Bonhoeffer-Raum<br />Glatzer Str. 31<br 
 />69124 Heidelberg<br /><br />Veranstalter: <br />Gemeinde: Bonhoeffer-Gem
 einde Kirchheim - Pfarramt: Bonhoeffer-Gemeinde Kirchheim<br />Oppelner St
 r. 2<br />69124 Heidelberg<br />Telefon: 06221712248
END:VEVENT
END:VCALENDAR
