BEGIN:VCALENDAR
VERSION:2.0
PRODID:-//bonhoeffer.ekihd.de//NONSGML kigkonsult.se iCalcreator 2.41.92//
CALSCALE:GREGORIAN
METHOD:PUBLISH
UID:33393762-6633-4263-a332-643334393733
X-WR-TIMEZONE:Europe/Berlin
X-LIC-LOCATION:Europe/Berlin
BEGIN:VTIMEZONE
TZID:Europe/Berlin
BEGIN:DAYLIGHT
TZOFFSETFROM:+0100
TZOFFSETTO:+0200
TZNAME:CEST
DTSTART:19700329T020000
RRULE:FREQ=YEARLY;BYDAY=-1SU;BYMONTH=3
END:DAYLIGHT
BEGIN:STANDARD
TZOFFSETFROM:+0200
TZOFFSETTO:+0100
TZNAME:CET
DTSTART:19701025T030000
RRULE:FREQ=YEARLY;BYDAY=-1SU;BYMONTH=10
END:STANDARD
END:VTIMEZONE
BEGIN:VEVENT
UID:66663938-3238-4531-b761-303630313163
DTSTAMP:20260421T231418Z
DESCRIPTION:Bei einem Snack zusammensitzen\, sich übers Leben\, über Gott u
 nd die Welt austauschen.\n \n Veranstaltungsort:\n Evang. Gemeindezentrum 
 Arche HD-Kirchheim\n Bonhoeffer-Raum\n Glatzer Str. 31\n 69124 Heidelberg
 \n \n Veranstalter:\n Gemeinde: Bonhoeffer-Gemeinde Kirchheim - Pfarramt: 
 Bonhoeffer-Gemeinde Kirchheim\n Oppelner Str. 2\n 69124 Heidelberg\n Telef
 on: 06221712248
DTSTART;TZID=Europe/Berlin:20260423T180000
DTEND;TZID=Europe/Berlin:20260423T193000
LOCATION:Evang. Gemeindezentrum Arche HD-Kirchheim\n - Bonhoeffer-Raum\n - 
 Glatzer Str. 31\n - 69124 Heidelberg
SUMMARY:Offener Treff für Singles
X-ALT-DESC;FMTTYPE=text/html:Bei einem Snack zusammensitzen\, sich übers Le
 ben\, über Gott und die Welt austauschen.<br /><br />Veranstaltungsort: <b
 r />Evang. Gemeindezentrum Arche HD-Kirchheim<br />Bonhoeffer-Raum<br />Gl
 atzer Str. 31<br />69124 Heidelberg<br /><br />Veranstalter: <br />Gemeind
 e: Bonhoeffer-Gemeinde Kirchheim - Pfarramt: Bonhoeffer-Gemeinde Kirchheim
 <br />Oppelner Str. 2<br />69124 Heidelberg<br />Telefon: 06221712248
END:VEVENT
END:VCALENDAR
