BEGIN:VCALENDAR
VERSION:2.0
PRODID:-//bonhoeffer.ekihd.de//NONSGML kigkonsult.se iCalcreator 2.41.92//
CALSCALE:GREGORIAN
METHOD:PUBLISH
UID:35613866-3464-4836-b137-616332633361
X-WR-TIMEZONE:Europe/Berlin
X-LIC-LOCATION:Europe/Berlin
BEGIN:VTIMEZONE
TZID:Europe/Berlin
BEGIN:DAYLIGHT
TZOFFSETFROM:+0100
TZOFFSETTO:+0200
TZNAME:CEST
DTSTART:19700329T020000
RRULE:FREQ=YEARLY;BYDAY=-1SU;BYMONTH=3
END:DAYLIGHT
BEGIN:STANDARD
TZOFFSETFROM:+0200
TZOFFSETTO:+0100
TZNAME:CET
DTSTART:19701025T030000
RRULE:FREQ=YEARLY;BYDAY=-1SU;BYMONTH=10
END:STANDARD
END:VTIMEZONE
BEGIN:VEVENT
UID:34633566-6361-4437-a165-646162396563
DTSTAMP:20260421T160922Z
DESCRIPTION:Veranstaltungsort:\n Evang. Gemeindezentrum Arche HD-Kirchheim
 \n Bonhoeffer-Raum\n Glatzer Str. 31\n 69124 Heidelberg\n \n Veranstalter:
 \n Gemeinde: Bonhoeffer-Gemeinde Kirchheim - Pfarramt: Bonhoeffer-Gemeinde
  Kirchheim\n Oppelner Str. 2\n 69124 Heidelberg\n Telefon: 06221712248
DTSTART;TZID=Europe/Berlin:20260426T110000
DTEND;TZID=Europe/Berlin:20260426T140000
LOCATION:Evang. Gemeindezentrum Arche HD-Kirchheim\n - Bonhoeffer-Raum\n - 
 Glatzer Str. 31\n - 69124 Heidelberg
SUMMARY:Café Bohne Lunch
X-ALT-DESC;FMTTYPE=text/html:Veranstaltungsort: <br />Evang. Gemeindezentru
 m Arche HD-Kirchheim<br />Bonhoeffer-Raum<br />Glatzer Str. 31<br />69124 
 Heidelberg<br /><br />Veranstalter: <br />Gemeinde: Bonhoeffer-Gemeinde Ki
 rchheim - Pfarramt: Bonhoeffer-Gemeinde Kirchheim<br />Oppelner Str. 2<br 
 />69124 Heidelberg<br />Telefon: 06221712248
END:VEVENT
END:VCALENDAR
