BEGIN:VCALENDAR
VERSION:2.0
PRODID:-//bonhoeffer.ekihd.de//NONSGML kigkonsult.se iCalcreator 2.41.92//
CALSCALE:GREGORIAN
METHOD:PUBLISH
UID:34336235-6138-4630-a439-303036353362
X-WR-TIMEZONE:Europe/Berlin
X-LIC-LOCATION:Europe/Berlin
BEGIN:VTIMEZONE
TZID:Europe/Berlin
BEGIN:DAYLIGHT
TZOFFSETFROM:+0100
TZOFFSETTO:+0200
TZNAME:CEST
DTSTART:19700329T020000
RRULE:FREQ=YEARLY;BYDAY=-1SU;BYMONTH=3
END:DAYLIGHT
BEGIN:STANDARD
TZOFFSETFROM:+0200
TZOFFSETTO:+0100
TZNAME:CET
DTSTART:19701025T030000
RRULE:FREQ=YEARLY;BYDAY=-1SU;BYMONTH=10
END:STANDARD
END:VTIMEZONE
BEGIN:VEVENT
UID:33613530-3563-4664-b963-333835336432
DTSTAMP:20260421T161013Z
DESCRIPTION:Entspannung am Abend\n \n Mit sanften Yoga-Übungen zu mehr Gela
 ssenheit\, gutem Schlaf und neuer Energie.\n \n Veranstaltungsort:\n Evang
 . Gemeindezentrum Arche HD-Kirchheim\n Hermann-Maas Saal\n Glatzer Str. 31
 \n 69124 Heidelberg\n \n Veranstalter:\n Gemeinde: Bonhoeffer-Gemeinde Kir
 chheim - Pfarramt: Bonhoeffer-Gemeinde Kirchheim\n Oppelner Str. 2\n 69124
  Heidelberg\n Telefon: 06221712248
DTSTART;TZID=Europe/Berlin:20260421T193000
DTEND;TZID=Europe/Berlin:20260421T203000
LOCATION:Evang. Gemeindezentrum Arche HD-Kirchheim\n - Hermann-Maas Saal\n 
 - Glatzer Str. 31\n - 69124 Heidelberg
SUMMARY:Yoga-Kurs
X-ALT-DESC;FMTTYPE=text/html:Entspannung am Abend<br /><br />Mit sanften Yo
 ga-Übungen zu mehr Gelassenheit\, gutem Schlaf und neuer Energie.<br /><br
  />Veranstaltungsort: <br />Evang. Gemeindezentrum Arche HD-Kirchheim<br /
 >Hermann-Maas Saal<br />Glatzer Str. 31<br />69124 Heidelberg<br /><br />V
 eranstalter: <br />Gemeinde: Bonhoeffer-Gemeinde Kirchheim - Pfarramt: Bon
 hoeffer-Gemeinde Kirchheim<br />Oppelner Str. 2<br />69124 Heidelberg<br /
 >Telefon: 06221712248
END:VEVENT
END:VCALENDAR
