BEGIN:VCALENDAR
VERSION:2.0
PRODID:-//bonhoeffer.ekihd.de//NONSGML kigkonsult.se iCalcreator 2.41.92//
CALSCALE:GREGORIAN
METHOD:PUBLISH
UID:35303734-3833-4937-a430-623134326235
X-WR-TIMEZONE:Europe/Berlin
X-LIC-LOCATION:Europe/Berlin
BEGIN:VTIMEZONE
TZID:Europe/Berlin
BEGIN:DAYLIGHT
TZOFFSETFROM:+0100
TZOFFSETTO:+0200
TZNAME:CEST
DTSTART:19700329T020000
RRULE:FREQ=YEARLY;BYDAY=-1SU;BYMONTH=3
END:DAYLIGHT
BEGIN:STANDARD
TZOFFSETFROM:+0200
TZOFFSETTO:+0100
TZNAME:CET
DTSTART:19701025T030000
RRULE:FREQ=YEARLY;BYDAY=-1SU;BYMONTH=10
END:STANDARD
END:VTIMEZONE
BEGIN:VEVENT
UID:31363730-3265-4434-b633-306264323865
DTSTAMP:20260421T160033Z
DESCRIPTION:Jugendgottesdienst BeOne in der Lukasgemeinde\, Boxbergring 101
 \n \n Veranstaltungsort:\n Gottesdienst an einem besonderen Ort - siehe An
 kündigung\n Hegenichstr. 22\n 69124 Heidelberg\n \n Veranstalter:\n Gemein
 de: Bonhoeffer-Gemeinde Kirchheim - Pfarramt: Bonhoeffer-Gemeinde Kirchhei
 m\n Oppelner Str. 2\n 69124 Heidelberg\n Telefon: 06221712248
DTSTART;TZID=Europe/Berlin:20260717T183000
DTEND;TZID=Europe/Berlin:20260717T193000
LOCATION:Gottesdienst an einem besonderen Ort - siehe Ankündigung\n - Hegen
 ichstr. 22\n - 69124 Heidelberg
SUMMARY:Jugendgottesdienst
X-ALT-DESC;FMTTYPE=text/html:Jugendgottesdienst BeOne in der Lukasgemeinde\
 , Boxbergring 101<br /><br />Veranstaltungsort: <br />Gottesdienst an eine
 m besonderen Ort - siehe Ankündigung<br />Hegenichstr. 22<br />69124 Heide
 lberg<br /><br />Veranstalter: <br />Gemeinde: Bonhoeffer-Gemeinde Kirchhe
 im - Pfarramt: Bonhoeffer-Gemeinde Kirchheim<br />Oppelner Str. 2<br />691
 24 Heidelberg<br />Telefon: 06221712248
END:VEVENT
END:VCALENDAR
