BEGIN:VCALENDAR
VERSION:2.0
PRODID:-//bonhoeffer.ekihd.de//NONSGML kigkonsult.se iCalcreator 2.41.92//
CALSCALE:GREGORIAN
METHOD:PUBLISH
UID:64393739-3931-4265-b231-316537616539
X-WR-TIMEZONE:Europe/Berlin
X-LIC-LOCATION:Europe/Berlin
BEGIN:VTIMEZONE
TZID:Europe/Berlin
BEGIN:DAYLIGHT
TZOFFSETFROM:+0100
TZOFFSETTO:+0200
TZNAME:CEST
DTSTART:19700329T020000
RRULE:FREQ=YEARLY;BYDAY=-1SU;BYMONTH=3
END:DAYLIGHT
BEGIN:STANDARD
TZOFFSETFROM:+0200
TZOFFSETTO:+0100
TZNAME:CET
DTSTART:19701025T030000
RRULE:FREQ=YEARLY;BYDAY=-1SU;BYMONTH=10
END:STANDARD
END:VTIMEZONE
BEGIN:VEVENT
UID:66656562-3934-4832-a664-643632623537
DTSTAMP:20260421T160738Z
DESCRIPTION:Offener Kreis für Frauen jeden Alters\n \n Einen Wut-Anfall kan
 n man überall bekommen\, aber wo gibt es einen Mut-Anfall?\n \n Veranstalt
 ungsort:\n Evang. Gemeindezentrum Arche HD-Kirchheim\n Bonhoeffer-Raum\n G
 latzer Str. 31\n 69124 Heidelberg\n \n Veranstalter:\n Gemeinde: Bonhoeffe
 r-Gemeinde Kirchheim - Pfarramt: Bonhoeffer-Gemeinde Kirchheim\n Oppelner 
 Str. 2\n 69124 Heidelberg\n Telefon: 06221712248
DTSTART;TZID=Europe/Berlin:20260626T200000
DTEND;TZID=Europe/Berlin:20260626T220000
LOCATION:Evang. Gemeindezentrum Arche HD-Kirchheim\n - Bonhoeffer-Raum\n - 
 Glatzer Str. 31\n - 69124 Heidelberg
SUMMARY:Frauenabend Mutanfall
X-ALT-DESC;FMTTYPE=text/html:Offener Kreis für Frauen jeden Alters<br /><br
  />Einen Wut-Anfall kann man überall bekommen\, aber wo gibt es einen Mut-
 Anfall?<br /><br />Veranstaltungsort: <br />Evang. Gemeindezentrum Arche H
 D-Kirchheim<br />Bonhoeffer-Raum<br />Glatzer Str. 31<br />69124 Heidelber
 g<br /><br />Veranstalter: <br />Gemeinde: Bonhoeffer-Gemeinde Kirchheim -
  Pfarramt: Bonhoeffer-Gemeinde Kirchheim<br />Oppelner Str. 2<br />69124 H
 eidelberg<br />Telefon: 06221712248
END:VEVENT
END:VCALENDAR
