BEGIN:VCALENDAR
VERSION:2.0
PRODID:-//bonhoeffer.ekihd.de//NONSGML kigkonsult.se iCalcreator 2.41.92//
CALSCALE:GREGORIAN
METHOD:PUBLISH
UID:39313131-3137-4438-a365-363465633764
X-WR-TIMEZONE:Europe/Berlin
X-LIC-LOCATION:Europe/Berlin
BEGIN:VTIMEZONE
TZID:Europe/Berlin
BEGIN:DAYLIGHT
TZOFFSETFROM:+0100
TZOFFSETTO:+0200
TZNAME:CEST
DTSTART:19700329T020000
RRULE:FREQ=YEARLY;BYDAY=-1SU;BYMONTH=3
END:DAYLIGHT
BEGIN:STANDARD
TZOFFSETFROM:+0200
TZOFFSETTO:+0100
TZNAME:CET
DTSTART:19701025T030000
RRULE:FREQ=YEARLY;BYDAY=-1SU;BYMONTH=10
END:STANDARD
END:VTIMEZONE
BEGIN:VEVENT
UID:61653134-3465-4566-b062-616233656364
DTSTAMP:20260421T160747Z
DESCRIPTION:Offener Männertreff\n \n Jeder\, der mag\, bringt was mit: ein 
 Lieblingsgetränk\, einen Lieblingstext oder ein Instrument. Wir stoßen mit
 einander an - teilen einen spirituellen Impuls - kommen ins Gespräch. Will
 kommen an alle Männer zum 'Prost Gott' mit Pfarrer Kliesch\n \n Veranstalt
 ungsort:\n Evang. Gemeindezentrum Arche HD-Kirchheim\n Bonhoeffer-Raum\n G
 latzer Str. 31\n 69124 Heidelberg\n \n Veranstalter:\n Gemeinde: Bonhoeffe
 r-Gemeinde Kirchheim - Pfarramt: Bonhoeffer-Gemeinde Kirchheim\n Oppelner 
 Str. 2\n 69124 Heidelberg\n Telefon: 06221712248
DTSTART;TZID=Europe/Berlin:20260522T200000
DTEND;TZID=Europe/Berlin:20260522T220000
LOCATION:Evang. Gemeindezentrum Arche HD-Kirchheim\n - Bonhoeffer-Raum\n - 
 Glatzer Str. 31\n - 69124 Heidelberg
SUMMARY:Prost Gott
X-ALT-DESC;FMTTYPE=text/html:Offener Männertreff<br /><br />Jeder\, der mag
 \, bringt was mit: ein Lieblingsgetränk\, einen Lieblingstext oder ein Ins
 trument. Wir stoßen miteinander an - teilen einen spirituellen Impuls - ko
 mmen ins Gespräch.\n Willkommen an alle Männer zum 'Prost Gott' mit Pfarre
 r Kliesch<br /><br />Veranstaltungsort: <br />Evang. Gemeindezentrum Arche
  HD-Kirchheim<br />Bonhoeffer-Raum<br />Glatzer Str. 31<br />69124 Heidelb
 erg<br /><br />Veranstalter: <br />Gemeinde: Bonhoeffer-Gemeinde Kirchheim
  - Pfarramt: Bonhoeffer-Gemeinde Kirchheim<br />Oppelner Str. 2<br />69124
  Heidelberg<br />Telefon: 06221712248
END:VEVENT
END:VCALENDAR
