BEGIN:VCALENDAR
VERSION:2.0
PRODID:-//bonhoeffer.ekihd.de//NONSGML kigkonsult.se iCalcreator 2.41.92//
CALSCALE:GREGORIAN
METHOD:PUBLISH
UID:39313730-3466-4365-a335-616438653265
X-WR-TIMEZONE:Europe/Berlin
X-LIC-LOCATION:Europe/Berlin
BEGIN:VTIMEZONE
TZID:Europe/Berlin
BEGIN:DAYLIGHT
TZOFFSETFROM:+0100
TZOFFSETTO:+0200
TZNAME:CEST
DTSTART:19700329T020000
RRULE:FREQ=YEARLY;BYDAY=-1SU;BYMONTH=3
END:DAYLIGHT
BEGIN:STANDARD
TZOFFSETFROM:+0200
TZOFFSETTO:+0100
TZNAME:CET
DTSTART:19701025T030000
RRULE:FREQ=YEARLY;BYDAY=-1SU;BYMONTH=10
END:STANDARD
END:VTIMEZONE
BEGIN:VEVENT
UID:37326664-3366-4536-a336-376136646262
DTSTAMP:20260421T172829Z
DESCRIPTION:Jugendgottesdienst BeOne im Markushaus\, Rheinstr. 29/1\n \n Ve
 ranstaltungsort:\n Gottesdienst an einem besonderen Ort - siehe Ankündigun
 g\n Hegenichstr. 22\n 69124 Heidelberg\n \n Veranstalter:\n Gemeinde: Bonh
 oeffer-Gemeinde Kirchheim - Pfarramt: Bonhoeffer-Gemeinde Kirchheim\n Oppe
 lner Str. 2\n 69124 Heidelberg\n Telefon: 06221712248
DTSTART;TZID=Europe/Berlin:20260619T183000
DTEND;TZID=Europe/Berlin:20260619T193000
LOCATION:Gottesdienst an einem besonderen Ort - siehe Ankündigung\n - Hegen
 ichstr. 22\n - 69124 Heidelberg
SUMMARY:Jugendgottesdienst
X-ALT-DESC;FMTTYPE=text/html:Jugendgottesdienst BeOne im Markushaus\, Rhein
 str. 29/1<br /><br />Veranstaltungsort: <br />Gottesdienst an einem besond
 eren Ort - siehe Ankündigung<br />Hegenichstr. 22<br />69124 Heidelberg<br
  /><br />Veranstalter: <br />Gemeinde: Bonhoeffer-Gemeinde Kirchheim - Pfa
 rramt: Bonhoeffer-Gemeinde Kirchheim<br />Oppelner Str. 2<br />69124 Heide
 lberg<br />Telefon: 06221712248
END:VEVENT
END:VCALENDAR
