BEGIN:VCALENDAR
VERSION:2.0
PRODID:-//bonhoeffer.ekihd.de//NONSGML kigkonsult.se iCalcreator 2.41.92//
CALSCALE:GREGORIAN
METHOD:PUBLISH
UID:33666332-3932-4333-b661-653562333762
X-WR-TIMEZONE:Europe/Berlin
X-LIC-LOCATION:Europe/Berlin
BEGIN:VTIMEZONE
TZID:Europe/Berlin
BEGIN:DAYLIGHT
TZOFFSETFROM:+0100
TZOFFSETTO:+0200
TZNAME:CEST
DTSTART:19700329T020000
RRULE:FREQ=YEARLY;BYDAY=-1SU;BYMONTH=3
END:DAYLIGHT
BEGIN:STANDARD
TZOFFSETFROM:+0200
TZOFFSETTO:+0100
TZNAME:CET
DTSTART:19701025T030000
RRULE:FREQ=YEARLY;BYDAY=-1SU;BYMONTH=10
END:STANDARD
END:VTIMEZONE
BEGIN:VEVENT
UID:38613766-3333-4565-a665-636130316536
DTSTAMP:20260421T200210Z
DESCRIPTION:Singegottesdienst für Klein- und Groß\n \n Veranstaltungsort:\n
  Evang. Gemeindezentrum Arche HD-Kirchheim\n Glatzer Str. 31\n 69124 Heide
 lberg\n \n Veranstalter:\n Gemeinde: Bonhoeffer-Gemeinde Kirchheim - Pfarr
 amt: Bonhoeffer-Gemeinde Kirchheim\n Oppelner Str. 2\n 69124 Heidelberg\n 
 Telefon: 06221712248
DTSTART;TZID=Europe/Berlin:20260510T100000
DTEND;TZID=Europe/Berlin:20260510T110000
LOCATION:Evang. Gemeindezentrum Arche HD-Kirchheim\n - Glatzer Str. 31\n - 
 69124 Heidelberg
SUMMARY:Kindergottesdienst
X-ALT-DESC;FMTTYPE=text/html:Singegottesdienst für Klein- und Groß<br /><br
  />Veranstaltungsort: <br />Evang. Gemeindezentrum Arche HD-Kirchheim<br /
 >Glatzer Str. 31<br />69124 Heidelberg<br /><br />Veranstalter: <br />Geme
 inde: Bonhoeffer-Gemeinde Kirchheim - Pfarramt: Bonhoeffer-Gemeinde Kirchh
 eim<br />Oppelner Str. 2<br />69124 Heidelberg<br />Telefon: 06221712248
END:VEVENT
END:VCALENDAR
