BEGIN:VCALENDAR
VERSION:2.0
PRODID:-//bonhoeffer.ekihd.de//NONSGML kigkonsult.se iCalcreator 2.41.92//
CALSCALE:GREGORIAN
METHOD:PUBLISH
UID:62643162-6462-4565-b633-353561343639
X-WR-TIMEZONE:Europe/Berlin
X-LIC-LOCATION:Europe/Berlin
BEGIN:VTIMEZONE
TZID:Europe/Berlin
BEGIN:DAYLIGHT
TZOFFSETFROM:+0100
TZOFFSETTO:+0200
TZNAME:CEST
DTSTART:19700329T020000
RRULE:FREQ=YEARLY;BYDAY=-1SU;BYMONTH=3
END:DAYLIGHT
BEGIN:STANDARD
TZOFFSETFROM:+0200
TZOFFSETTO:+0100
TZNAME:CET
DTSTART:19701025T030000
RRULE:FREQ=YEARLY;BYDAY=-1SU;BYMONTH=10
END:STANDARD
END:VTIMEZONE
BEGIN:VEVENT
UID:30343039-6237-4130-b435-383038616632
DTSTAMP:20260421T200215Z
DESCRIPTION:Sing- und Spiel-Gottesdienst für Klein und Groß (Kindergottesdi
 enst-Team)\n \n Veranstaltungsort:\n Evang. Gemeindezentrum Arche HD-Kirch
 heim\n Glatzer Str. 31\n 69124 Heidelberg\n \n Veranstalter:\n Gemeinde: B
 onhoeffer-Gemeinde Kirchheim - Pfarramt: Bonhoeffer-Gemeinde Kirchheim\n O
 ppelner Str. 2\n 69124 Heidelberg\n Telefon: 06221712248
DTSTART;TZID=Europe/Berlin:20260621T100000
DTEND;TZID=Europe/Berlin:20260621T110000
LOCATION:Evang. Gemeindezentrum Arche HD-Kirchheim\n - Glatzer Str. 31\n - 
 69124 Heidelberg
SUMMARY:Kindergottesdienst
X-ALT-DESC;FMTTYPE=text/html:Sing- und Spiel-Gottesdienst für Klein und Gro
 ß (Kindergottesdienst-Team)<br /><br />Veranstaltungsort: <br />Evang. Gem
 eindezentrum Arche HD-Kirchheim<br />Glatzer Str. 31<br />69124 Heidelberg
 <br /><br />Veranstalter: <br />Gemeinde: Bonhoeffer-Gemeinde Kirchheim - 
 Pfarramt: Bonhoeffer-Gemeinde Kirchheim<br />Oppelner Str. 2<br />69124 He
 idelberg<br />Telefon: 06221712248
END:VEVENT
END:VCALENDAR
