BEGIN:VCALENDAR
VERSION:2.0
PRODID:-//bonhoeffer.ekihd.de//NONSGML kigkonsult.se iCalcreator 2.41.92//
CALSCALE:GREGORIAN
METHOD:PUBLISH
UID:38383934-6536-4438-b330-396234333837
X-WR-TIMEZONE:Europe/Berlin
X-LIC-LOCATION:Europe/Berlin
BEGIN:VTIMEZONE
TZID:Europe/Berlin
BEGIN:DAYLIGHT
TZOFFSETFROM:+0100
TZOFFSETTO:+0200
TZNAME:CEST
DTSTART:19700329T020000
RRULE:FREQ=YEARLY;BYDAY=-1SU;BYMONTH=3
END:DAYLIGHT
BEGIN:STANDARD
TZOFFSETFROM:+0200
TZOFFSETTO:+0100
TZNAME:CET
DTSTART:19701025T030000
RRULE:FREQ=YEARLY;BYDAY=-1SU;BYMONTH=10
END:STANDARD
END:VTIMEZONE
BEGIN:VEVENT
UID:61303766-3930-4738-b139-393639343536
DTSTAMP:20260421T235413Z
DESCRIPTION:Veranstaltungsort:\n Evang. Gemeindezentrum Arche HD-Kirchheim
 \n Hermann-Maas Saal\n Glatzer Str. 31\n 69124 Heidelberg\n \n Veranstalte
 r:\n Gemeinde: Bonhoeffer-Gemeinde Kirchheim - Pfarramt: Bonhoeffer-Gemein
 de Kirchheim\n Oppelner Str. 2\n 69124 Heidelberg\n Telefon: 06221712248
DTSTART;TZID=Europe/Berlin:20260521T194500
DTEND;TZID=Europe/Berlin:20260521T211500
LOCATION:Evang. Gemeindezentrum Arche HD-Kirchheim\n - Hermann-Maas Saal\n 
 - Glatzer Str. 31\n - 69124 Heidelberg
SUMMARY:Gemeindechor
X-ALT-DESC;FMTTYPE=text/html:Veranstaltungsort: <br />Evang. Gemeindezentru
 m Arche HD-Kirchheim<br />Hermann-Maas Saal<br />Glatzer Str. 31<br />6912
 4 Heidelberg<br /><br />Veranstalter: <br />Gemeinde: Bonhoeffer-Gemeinde 
 Kirchheim - Pfarramt: Bonhoeffer-Gemeinde Kirchheim<br />Oppelner Str. 2<b
 r />69124 Heidelberg<br />Telefon: 06221712248
END:VEVENT
END:VCALENDAR
